BEGIN:VCALENDAR
VERSION:2.0
PRODID:-//Pedro Pet Pals - ECPv6.15.20//NONSGML v1.0//EN
CALSCALE:GREGORIAN
METHOD:PUBLISH
X-ORIGINAL-URL:https://pedropetpals.com
X-WR-CALDESC:Events for Pedro Pet Pals
REFRESH-INTERVAL;VALUE=DURATION:PT1H
X-Robots-Tag:noindex
X-PUBLISHED-TTL:PT1H
BEGIN:VTIMEZONE
TZID:America/Los_Angeles
BEGIN:DAYLIGHT
TZOFFSETFROM:-0800
TZOFFSETTO:-0700
TZNAME:PDT
DTSTART:20290311T100000
END:DAYLIGHT
BEGIN:STANDARD
TZOFFSETFROM:-0700
TZOFFSETTO:-0800
TZNAME:PST
DTSTART:20291104T090000
END:STANDARD
BEGIN:DAYLIGHT
TZOFFSETFROM:-0800
TZOFFSETTO:-0700
TZNAME:PDT
DTSTART:20300310T100000
END:DAYLIGHT
BEGIN:STANDARD
TZOFFSETFROM:-0700
TZOFFSETTO:-0800
TZNAME:PST
DTSTART:20301103T090000
END:STANDARD
BEGIN:DAYLIGHT
TZOFFSETFROM:-0800
TZOFFSETTO:-0700
TZNAME:PDT
DTSTART:20310309T100000
END:DAYLIGHT
BEGIN:STANDARD
TZOFFSETFROM:-0700
TZOFFSETTO:-0800
TZNAME:PST
DTSTART:20311102T090000
END:STANDARD
BEGIN:DAYLIGHT
TZOFFSETFROM:-0800
TZOFFSETTO:-0700
TZNAME:PDT
DTSTART:20320314T100000
END:DAYLIGHT
BEGIN:STANDARD
TZOFFSETFROM:-0700
TZOFFSETTO:-0800
TZNAME:PST
DTSTART:20321107T090000
END:STANDARD
END:VTIMEZONE
BEGIN:VEVENT
DTSTART;TZID=America/Los_Angeles:20300505T120000
DTEND;TZID=America/Los_Angeles:20300505T150000
DTSTAMP:20260419T075328
CREATED:20260218T215431Z
LAST-MODIFIED:20260221T003341Z
UID:10000243-1904212800-1904223600@pedropetpals.com
SUMMARY:Mobile Dog & Cat Adoption 1st Sundays - Eastview Park
DESCRIPTION:Pedro Pet Pals invites you to Mobile Dog & Cat Adoption Sundays\, our monthly dog & cat adoption events held throughout the South Bay and surrounding Los Angeles areas. Join us Noon – 3:00 PM each Sunday at rotating South Bay locations and connect with loving pets ready for their forever homes. Meet adoptable dogs & cats and find your new best friend! \nWe host mobile dog & cat adoption events at convenient community locations in Rancho Palos Verdes\, San Pedro\, Downey\, and Torrance—making it easy to find your new best friend close to home. \nAdoption Schedule (Monthly): \n1st Sunday:Eastview Park1700 Westmont Dr\, Rancho Palos Verdes\, CA 90275 \n2nd Sunday:Point Fermin Park807 W Paseo Del Mar\, San Pedro\, CA 90731 \n3rd Sunday:PetSmart12126 Lakewood Blvd\, Downey\, CA 90242 \n4th Sunday:Petco24413 Crenshaw Blvd\, Torrance\, CA 90505 \nThese adoption events are held in partnership with Los Angeles County Animal Care & Control to help dogs find safe\, loving homes throughout the community. Stop by\, meet available dogs & cats\, speak with adoption counselors\, and take the first step toward welcoming your new furry companion. \nCome meet your fur-ever friend—every month\, every Sunday!
URL:https://pedropetpals.com/event/mobile-dog-and-cat-adoption-sundays-eastview-park/2030-05-05/
LOCATION:Eastview Park\, 1700 Westmont Dr\, Rancho Palos Verdes\, California\, 90275
CATEGORIES:Adoption
ATTACH;FMTTYPE=image/jpeg:https://pedropetpals.com/wp-content/uploads/2026/02/Monthly-Dog-Flyer-scaled.jpg
END:VEVENT
BEGIN:VEVENT
DTSTART;TZID=America/Los_Angeles:20300602T120000
DTEND;TZID=America/Los_Angeles:20300602T150000
DTSTAMP:20260419T075328
CREATED:20260218T215431Z
LAST-MODIFIED:20260221T003341Z
UID:10000244-1906632000-1906642800@pedropetpals.com
SUMMARY:Mobile Dog & Cat Adoption 1st Sundays - Eastview Park
DESCRIPTION:Pedro Pet Pals invites you to Mobile Dog & Cat Adoption Sundays\, our monthly dog & cat adoption events held throughout the South Bay and surrounding Los Angeles areas. Join us Noon – 3:00 PM each Sunday at rotating South Bay locations and connect with loving pets ready for their forever homes. Meet adoptable dogs & cats and find your new best friend! \nWe host mobile dog & cat adoption events at convenient community locations in Rancho Palos Verdes\, San Pedro\, Downey\, and Torrance—making it easy to find your new best friend close to home. \nAdoption Schedule (Monthly): \n1st Sunday:Eastview Park1700 Westmont Dr\, Rancho Palos Verdes\, CA 90275 \n2nd Sunday:Point Fermin Park807 W Paseo Del Mar\, San Pedro\, CA 90731 \n3rd Sunday:PetSmart12126 Lakewood Blvd\, Downey\, CA 90242 \n4th Sunday:Petco24413 Crenshaw Blvd\, Torrance\, CA 90505 \nThese adoption events are held in partnership with Los Angeles County Animal Care & Control to help dogs find safe\, loving homes throughout the community. Stop by\, meet available dogs & cats\, speak with adoption counselors\, and take the first step toward welcoming your new furry companion. \nCome meet your fur-ever friend—every month\, every Sunday!
URL:https://pedropetpals.com/event/mobile-dog-and-cat-adoption-sundays-eastview-park/2030-06-02/
LOCATION:Eastview Park\, 1700 Westmont Dr\, Rancho Palos Verdes\, California\, 90275
CATEGORIES:Adoption
ATTACH;FMTTYPE=image/jpeg:https://pedropetpals.com/wp-content/uploads/2026/02/Monthly-Dog-Flyer-scaled.jpg
END:VEVENT
BEGIN:VEVENT
DTSTART;TZID=America/Los_Angeles:20300707T120000
DTEND;TZID=America/Los_Angeles:20300707T150000
DTSTAMP:20260419T075328
CREATED:20260218T215431Z
LAST-MODIFIED:20260221T003341Z
UID:10000245-1909656000-1909666800@pedropetpals.com
SUMMARY:Mobile Dog & Cat Adoption 1st Sundays - Eastview Park
DESCRIPTION:Pedro Pet Pals invites you to Mobile Dog & Cat Adoption Sundays\, our monthly dog & cat adoption events held throughout the South Bay and surrounding Los Angeles areas. Join us Noon – 3:00 PM each Sunday at rotating South Bay locations and connect with loving pets ready for their forever homes. Meet adoptable dogs & cats and find your new best friend! \nWe host mobile dog & cat adoption events at convenient community locations in Rancho Palos Verdes\, San Pedro\, Downey\, and Torrance—making it easy to find your new best friend close to home. \nAdoption Schedule (Monthly): \n1st Sunday:Eastview Park1700 Westmont Dr\, Rancho Palos Verdes\, CA 90275 \n2nd Sunday:Point Fermin Park807 W Paseo Del Mar\, San Pedro\, CA 90731 \n3rd Sunday:PetSmart12126 Lakewood Blvd\, Downey\, CA 90242 \n4th Sunday:Petco24413 Crenshaw Blvd\, Torrance\, CA 90505 \nThese adoption events are held in partnership with Los Angeles County Animal Care & Control to help dogs find safe\, loving homes throughout the community. Stop by\, meet available dogs & cats\, speak with adoption counselors\, and take the first step toward welcoming your new furry companion. \nCome meet your fur-ever friend—every month\, every Sunday!
URL:https://pedropetpals.com/event/mobile-dog-and-cat-adoption-sundays-eastview-park/2030-07-07/
LOCATION:Eastview Park\, 1700 Westmont Dr\, Rancho Palos Verdes\, California\, 90275
CATEGORIES:Adoption
ATTACH;FMTTYPE=image/jpeg:https://pedropetpals.com/wp-content/uploads/2026/02/Monthly-Dog-Flyer-scaled.jpg
END:VEVENT
BEGIN:VEVENT
DTSTART;TZID=America/Los_Angeles:20300804T120000
DTEND;TZID=America/Los_Angeles:20300804T150000
DTSTAMP:20260419T075328
CREATED:20260218T215431Z
LAST-MODIFIED:20260221T003341Z
UID:10000246-1912075200-1912086000@pedropetpals.com
SUMMARY:Mobile Dog & Cat Adoption 1st Sundays - Eastview Park
DESCRIPTION:Pedro Pet Pals invites you to Mobile Dog & Cat Adoption Sundays\, our monthly dog & cat adoption events held throughout the South Bay and surrounding Los Angeles areas. Join us Noon – 3:00 PM each Sunday at rotating South Bay locations and connect with loving pets ready for their forever homes. Meet adoptable dogs & cats and find your new best friend! \nWe host mobile dog & cat adoption events at convenient community locations in Rancho Palos Verdes\, San Pedro\, Downey\, and Torrance—making it easy to find your new best friend close to home. \nAdoption Schedule (Monthly): \n1st Sunday:Eastview Park1700 Westmont Dr\, Rancho Palos Verdes\, CA 90275 \n2nd Sunday:Point Fermin Park807 W Paseo Del Mar\, San Pedro\, CA 90731 \n3rd Sunday:PetSmart12126 Lakewood Blvd\, Downey\, CA 90242 \n4th Sunday:Petco24413 Crenshaw Blvd\, Torrance\, CA 90505 \nThese adoption events are held in partnership with Los Angeles County Animal Care & Control to help dogs find safe\, loving homes throughout the community. Stop by\, meet available dogs & cats\, speak with adoption counselors\, and take the first step toward welcoming your new furry companion. \nCome meet your fur-ever friend—every month\, every Sunday!
URL:https://pedropetpals.com/event/mobile-dog-and-cat-adoption-sundays-eastview-park/2030-08-04/
LOCATION:Eastview Park\, 1700 Westmont Dr\, Rancho Palos Verdes\, California\, 90275
CATEGORIES:Adoption
ATTACH;FMTTYPE=image/jpeg:https://pedropetpals.com/wp-content/uploads/2026/02/Monthly-Dog-Flyer-scaled.jpg
END:VEVENT
BEGIN:VEVENT
DTSTART;TZID=America/Los_Angeles:20300901T120000
DTEND;TZID=America/Los_Angeles:20300901T150000
DTSTAMP:20260419T075328
CREATED:20260218T215431Z
LAST-MODIFIED:20260221T003341Z
UID:10000247-1914494400-1914505200@pedropetpals.com
SUMMARY:Mobile Dog & Cat Adoption 1st Sundays - Eastview Park
DESCRIPTION:Pedro Pet Pals invites you to Mobile Dog & Cat Adoption Sundays\, our monthly dog & cat adoption events held throughout the South Bay and surrounding Los Angeles areas. Join us Noon – 3:00 PM each Sunday at rotating South Bay locations and connect with loving pets ready for their forever homes. Meet adoptable dogs & cats and find your new best friend! \nWe host mobile dog & cat adoption events at convenient community locations in Rancho Palos Verdes\, San Pedro\, Downey\, and Torrance—making it easy to find your new best friend close to home. \nAdoption Schedule (Monthly): \n1st Sunday:Eastview Park1700 Westmont Dr\, Rancho Palos Verdes\, CA 90275 \n2nd Sunday:Point Fermin Park807 W Paseo Del Mar\, San Pedro\, CA 90731 \n3rd Sunday:PetSmart12126 Lakewood Blvd\, Downey\, CA 90242 \n4th Sunday:Petco24413 Crenshaw Blvd\, Torrance\, CA 90505 \nThese adoption events are held in partnership with Los Angeles County Animal Care & Control to help dogs find safe\, loving homes throughout the community. Stop by\, meet available dogs & cats\, speak with adoption counselors\, and take the first step toward welcoming your new furry companion. \nCome meet your fur-ever friend—every month\, every Sunday!
URL:https://pedropetpals.com/event/mobile-dog-and-cat-adoption-sundays-eastview-park/2030-09-01/
LOCATION:Eastview Park\, 1700 Westmont Dr\, Rancho Palos Verdes\, California\, 90275
CATEGORIES:Adoption
ATTACH;FMTTYPE=image/jpeg:https://pedropetpals.com/wp-content/uploads/2026/02/Monthly-Dog-Flyer-scaled.jpg
END:VEVENT
BEGIN:VEVENT
DTSTART;TZID=America/Los_Angeles:20301006T120000
DTEND;TZID=America/Los_Angeles:20301006T150000
DTSTAMP:20260419T075328
CREATED:20260218T215431Z
LAST-MODIFIED:20260221T003341Z
UID:10000248-1917518400-1917529200@pedropetpals.com
SUMMARY:Mobile Dog & Cat Adoption 1st Sundays - Eastview Park
DESCRIPTION:Pedro Pet Pals invites you to Mobile Dog & Cat Adoption Sundays\, our monthly dog & cat adoption events held throughout the South Bay and surrounding Los Angeles areas. Join us Noon – 3:00 PM each Sunday at rotating South Bay locations and connect with loving pets ready for their forever homes. Meet adoptable dogs & cats and find your new best friend! \nWe host mobile dog & cat adoption events at convenient community locations in Rancho Palos Verdes\, San Pedro\, Downey\, and Torrance—making it easy to find your new best friend close to home. \nAdoption Schedule (Monthly): \n1st Sunday:Eastview Park1700 Westmont Dr\, Rancho Palos Verdes\, CA 90275 \n2nd Sunday:Point Fermin Park807 W Paseo Del Mar\, San Pedro\, CA 90731 \n3rd Sunday:PetSmart12126 Lakewood Blvd\, Downey\, CA 90242 \n4th Sunday:Petco24413 Crenshaw Blvd\, Torrance\, CA 90505 \nThese adoption events are held in partnership with Los Angeles County Animal Care & Control to help dogs find safe\, loving homes throughout the community. Stop by\, meet available dogs & cats\, speak with adoption counselors\, and take the first step toward welcoming your new furry companion. \nCome meet your fur-ever friend—every month\, every Sunday!
URL:https://pedropetpals.com/event/mobile-dog-and-cat-adoption-sundays-eastview-park/2030-10-06/
LOCATION:Eastview Park\, 1700 Westmont Dr\, Rancho Palos Verdes\, California\, 90275
CATEGORIES:Adoption
ATTACH;FMTTYPE=image/jpeg:https://pedropetpals.com/wp-content/uploads/2026/02/Monthly-Dog-Flyer-scaled.jpg
END:VEVENT
BEGIN:VEVENT
DTSTART;TZID=America/Los_Angeles:20301103T120000
DTEND;TZID=America/Los_Angeles:20301103T150000
DTSTAMP:20260419T075328
CREATED:20260218T215431Z
LAST-MODIFIED:20260221T003341Z
UID:10000249-1919937600-1919948400@pedropetpals.com
SUMMARY:Mobile Dog & Cat Adoption 1st Sundays - Eastview Park
DESCRIPTION:Pedro Pet Pals invites you to Mobile Dog & Cat Adoption Sundays\, our monthly dog & cat adoption events held throughout the South Bay and surrounding Los Angeles areas. Join us Noon – 3:00 PM each Sunday at rotating South Bay locations and connect with loving pets ready for their forever homes. Meet adoptable dogs & cats and find your new best friend! \nWe host mobile dog & cat adoption events at convenient community locations in Rancho Palos Verdes\, San Pedro\, Downey\, and Torrance—making it easy to find your new best friend close to home. \nAdoption Schedule (Monthly): \n1st Sunday:Eastview Park1700 Westmont Dr\, Rancho Palos Verdes\, CA 90275 \n2nd Sunday:Point Fermin Park807 W Paseo Del Mar\, San Pedro\, CA 90731 \n3rd Sunday:PetSmart12126 Lakewood Blvd\, Downey\, CA 90242 \n4th Sunday:Petco24413 Crenshaw Blvd\, Torrance\, CA 90505 \nThese adoption events are held in partnership with Los Angeles County Animal Care & Control to help dogs find safe\, loving homes throughout the community. Stop by\, meet available dogs & cats\, speak with adoption counselors\, and take the first step toward welcoming your new furry companion. \nCome meet your fur-ever friend—every month\, every Sunday!
URL:https://pedropetpals.com/event/mobile-dog-and-cat-adoption-sundays-eastview-park/2030-11-03/
LOCATION:Eastview Park\, 1700 Westmont Dr\, Rancho Palos Verdes\, California\, 90275
CATEGORIES:Adoption
ATTACH;FMTTYPE=image/jpeg:https://pedropetpals.com/wp-content/uploads/2026/02/Monthly-Dog-Flyer-scaled.jpg
END:VEVENT
BEGIN:VEVENT
DTSTART;TZID=America/Los_Angeles:20301201T120000
DTEND;TZID=America/Los_Angeles:20301201T150000
DTSTAMP:20260419T075328
CREATED:20260218T215431Z
LAST-MODIFIED:20260221T003341Z
UID:10000250-1922356800-1922367600@pedropetpals.com
SUMMARY:Mobile Dog & Cat Adoption 1st Sundays - Eastview Park
DESCRIPTION:Pedro Pet Pals invites you to Mobile Dog & Cat Adoption Sundays\, our monthly dog & cat adoption events held throughout the South Bay and surrounding Los Angeles areas. Join us Noon – 3:00 PM each Sunday at rotating South Bay locations and connect with loving pets ready for their forever homes. Meet adoptable dogs & cats and find your new best friend! \nWe host mobile dog & cat adoption events at convenient community locations in Rancho Palos Verdes\, San Pedro\, Downey\, and Torrance—making it easy to find your new best friend close to home. \nAdoption Schedule (Monthly): \n1st Sunday:Eastview Park1700 Westmont Dr\, Rancho Palos Verdes\, CA 90275 \n2nd Sunday:Point Fermin Park807 W Paseo Del Mar\, San Pedro\, CA 90731 \n3rd Sunday:PetSmart12126 Lakewood Blvd\, Downey\, CA 90242 \n4th Sunday:Petco24413 Crenshaw Blvd\, Torrance\, CA 90505 \nThese adoption events are held in partnership with Los Angeles County Animal Care & Control to help dogs find safe\, loving homes throughout the community. Stop by\, meet available dogs & cats\, speak with adoption counselors\, and take the first step toward welcoming your new furry companion. \nCome meet your fur-ever friend—every month\, every Sunday!
URL:https://pedropetpals.com/event/mobile-dog-and-cat-adoption-sundays-eastview-park/2030-12-01/
LOCATION:Eastview Park\, 1700 Westmont Dr\, Rancho Palos Verdes\, California\, 90275
CATEGORIES:Adoption
ATTACH;FMTTYPE=image/jpeg:https://pedropetpals.com/wp-content/uploads/2026/02/Monthly-Dog-Flyer-scaled.jpg
END:VEVENT
BEGIN:VEVENT
DTSTART;TZID=America/Los_Angeles:20310105T120000
DTEND;TZID=America/Los_Angeles:20310105T150000
DTSTAMP:20260419T075328
CREATED:20260218T215431Z
LAST-MODIFIED:20260221T003341Z
UID:10000251-1925380800-1925391600@pedropetpals.com
SUMMARY:Mobile Dog & Cat Adoption 1st Sundays - Eastview Park
DESCRIPTION:Pedro Pet Pals invites you to Mobile Dog & Cat Adoption Sundays\, our monthly dog & cat adoption events held throughout the South Bay and surrounding Los Angeles areas. Join us Noon – 3:00 PM each Sunday at rotating South Bay locations and connect with loving pets ready for their forever homes. Meet adoptable dogs & cats and find your new best friend! \nWe host mobile dog & cat adoption events at convenient community locations in Rancho Palos Verdes\, San Pedro\, Downey\, and Torrance—making it easy to find your new best friend close to home. \nAdoption Schedule (Monthly): \n1st Sunday:Eastview Park1700 Westmont Dr\, Rancho Palos Verdes\, CA 90275 \n2nd Sunday:Point Fermin Park807 W Paseo Del Mar\, San Pedro\, CA 90731 \n3rd Sunday:PetSmart12126 Lakewood Blvd\, Downey\, CA 90242 \n4th Sunday:Petco24413 Crenshaw Blvd\, Torrance\, CA 90505 \nThese adoption events are held in partnership with Los Angeles County Animal Care & Control to help dogs find safe\, loving homes throughout the community. Stop by\, meet available dogs & cats\, speak with adoption counselors\, and take the first step toward welcoming your new furry companion. \nCome meet your fur-ever friend—every month\, every Sunday!
URL:https://pedropetpals.com/event/mobile-dog-and-cat-adoption-sundays-eastview-park/2031-01-05/
LOCATION:Eastview Park\, 1700 Westmont Dr\, Rancho Palos Verdes\, California\, 90275
CATEGORIES:Adoption
ATTACH;FMTTYPE=image/jpeg:https://pedropetpals.com/wp-content/uploads/2026/02/Monthly-Dog-Flyer-scaled.jpg
END:VEVENT
BEGIN:VEVENT
DTSTART;TZID=America/Los_Angeles:20310202T120000
DTEND;TZID=America/Los_Angeles:20310202T150000
DTSTAMP:20260419T075328
CREATED:20260218T215431Z
LAST-MODIFIED:20260221T003341Z
UID:10000252-1927800000-1927810800@pedropetpals.com
SUMMARY:Mobile Dog & Cat Adoption 1st Sundays - Eastview Park
DESCRIPTION:Pedro Pet Pals invites you to Mobile Dog & Cat Adoption Sundays\, our monthly dog & cat adoption events held throughout the South Bay and surrounding Los Angeles areas. Join us Noon – 3:00 PM each Sunday at rotating South Bay locations and connect with loving pets ready for their forever homes. Meet adoptable dogs & cats and find your new best friend! \nWe host mobile dog & cat adoption events at convenient community locations in Rancho Palos Verdes\, San Pedro\, Downey\, and Torrance—making it easy to find your new best friend close to home. \nAdoption Schedule (Monthly): \n1st Sunday:Eastview Park1700 Westmont Dr\, Rancho Palos Verdes\, CA 90275 \n2nd Sunday:Point Fermin Park807 W Paseo Del Mar\, San Pedro\, CA 90731 \n3rd Sunday:PetSmart12126 Lakewood Blvd\, Downey\, CA 90242 \n4th Sunday:Petco24413 Crenshaw Blvd\, Torrance\, CA 90505 \nThese adoption events are held in partnership with Los Angeles County Animal Care & Control to help dogs find safe\, loving homes throughout the community. Stop by\, meet available dogs & cats\, speak with adoption counselors\, and take the first step toward welcoming your new furry companion. \nCome meet your fur-ever friend—every month\, every Sunday!
URL:https://pedropetpals.com/event/mobile-dog-and-cat-adoption-sundays-eastview-park/2031-02-02/
LOCATION:Eastview Park\, 1700 Westmont Dr\, Rancho Palos Verdes\, California\, 90275
CATEGORIES:Adoption
ATTACH;FMTTYPE=image/jpeg:https://pedropetpals.com/wp-content/uploads/2026/02/Monthly-Dog-Flyer-scaled.jpg
END:VEVENT
END:VCALENDAR